Workbook

Sheet Graph

Sheet Données depuis 2005
A1: Année | B1: Semaine | C1: Date du lundi | D1: Annee-Mois | E1: Cours du Porc Charcutier Cotation Lyon (Sud-est) | F1: Cours du porc Moyenne nationale | H1: Séance incotée
A2: =YEAR(C2) -> 2005 | B2: 01 | C2: 38355 | D2: =A2&"-"&TEXT((MONTH(C2-(MOD(C2-2,7))+2)),"00") -> 2005-01 | E2: 1.43
A3: =IF(VALUE(B3)=1,A2+1,A2) -> 2005 | B3: 02 | C3: 38362 | D3: =A3&"-"&TEXT((MONTH(C3-(MOD(C3-2,7))+2)),"00") -> 2005-01 | E3: 1.38
A4: =IF(VALUE(B4)=1,A3+1,A3) -> 2005 | B4: 03 | C4: 38369 | D4: =A4&"-"&TEXT((MONTH(C4-(MOD(C4-2,7))+2)),"00") -> 2005-01 | E4: 1.31
A5: =IF(VALUE(B5)=1,A4+1,A4) -> 2005 | B5: 04 | C5: 38376 | D5: =A5&"-"&TEXT((MONTH(C5-(MOD(C5-2,7))+2)),"00") -> 2005-01 | E5: 1.29
A6: =IF(VALUE(B6)=1,A5+1,A5) -> 2005 | B6: 05 | C6: 38383 | D6: =A6&"-"&TEXT((MONTH(C6-(MOD(C6-2,7))+2)),"00") -> 2005-02 | E6: 1.3
A7: =IF(VALUE(B7)=1,A6+1,A6) -> 2005 | B7: 06 | C7: 38390 | D7: =A7&"-"&TEXT((MONTH(C7-(MOD(C7-2,7))+2)),"00") -> 2005-02 | E7: 1.39
A8: =IF(VALUE(B8)=1,A7+1,A7) -> 2005 | B8: 07 | C8: 38397 | D8: =A8&"-"&TEXT((MONTH(C8-(MOD(C8-2,7))+2)),"00") -> 2005-02 | E8: 1.47
A9: =IF(VALUE(B9)=1,A8+1,A8) -> 2005 | B9: 08 | C9: 38404 | D9: =A9&"-"&TEXT((MONTH(C9-(MOD(C9-2,7))+2)),"00") -> 2005-02 | E9: 1.46
A10: =IF(VALUE(B10)=1,A9+1,A9) -> 2005 | B10: 09 | C10: 38411 | D10: =A10&"-"&TEXT((MONTH(C10-(MOD(C10-2,7))+2)),"00") -> 2005-03 | E10: 1.38
A11: =IF(VALUE(B11)=1,A10+1,A10) -> 2005 | B11: 10 | C11: 38418 | D11: =A11&"-"&TEXT((MONTH(C11-(MOD(C11-2,7))+2)),"00") -> 2005-03 | E11: 1.39
A12: =IF(VALUE(B12)=1,A11+1,A11) -> 2005 | B12: 11 | C12: 38425 | D12: =A12&"-"&TEXT((MONTH(C12-(MOD(C12-2,7))+2)),"00") -> 2005-03 | E12: 1.36
A13: =IF(VALUE(B13)=1,A12+1,A12) -> 2005 | B13: 12 | C13: 38432 | D13: =A13&"-"&TEXT((MONTH(C13-(MOD(C13-2,7))+2)),"00") -> 2005-03 | E13: 1.34
A14: =IF(VALUE(B14)=1,A13+1,A13) -> 2005 | B14: 13 | C14: 38439 | D14: =A14&"-"&TEXT((MONTH(C14-(MOD(C14-2,7))+2)),"00") -> 2005-03 | E14: 1.29
... A627: =IF(VALUE(B627)=1,A626+1,A626) -> 2016 | B627: 52 | C627: 42730 | D627: =A627&"-"&TEXT((MONTH(C627-(MOD(C627-2,7))+2)),"00") -> 2016-12 | E627: 1.52
A628: =IF(VALUE(B628)=1,A627+1,A627) -> 2017 | B628: 01 | C628: 42737 | D628: =A628&"-"&TEXT((MONTH(C628-(MOD(C628-2,7))+2)),"00") -> 2017-01 | E628: 1.53 | F628: 1.42
A629: =IF(VALUE(B629)=1,A628+1,A628) -> 2017 | B629: 02 | C629: 42744 | D629: =A629&"-"&TEXT((MONTH(C629-(MOD(C629-2,7))+2)),"00") -> 2017-01 | E629: 1.53 | F629: 1.42
A630: =IF(VALUE(B630)=1,A629+1,A629) -> 2017 | B630: 03 | C630: 42751 | D630: =A630&"-"&TEXT((MONTH(C630-(MOD(C630-2,7))+2)),"00") -> 2017-01 | E630: 1.52 | F630: 1.43
A631: =IF(VALUE(B631)=1,A630+1,A630) -> 2017 | B631: 04 | C631: 42758 | D631: =A631&"-"&TEXT((MONTH(C631-(MOD(C631-2,7))+2)),"00") -> 2017-01 | E631: 1.54 | F631: 1.43
A632: =IF(VALUE(B632)=1,A631+1,A631) -> 2017 | B632: 05 | C632: 42765 | D632: =A632&"-"&TEXT((MONTH(C632-(MOD(C632-2,7))+2)),"00") -> 2017-02 | E632: 1.56 | F632: 1.45
A633: =IF(VALUE(B633)=1,A632+1,A632) -> 2017 | B633: 06 | C633: 42772 | D633: =A633&"-"&TEXT((MONTH(C633-(MOD(C633-2,7))+2)),"00") -> 2017-02 | E633: 1.58 | F633: 1.47
A634: =IF(VALUE(B634)=1,A633+1,A633) -> 2017 | B634: 07 | C634: 42779 | D634: =A634&"-"&TEXT((MONTH(C634-(MOD(C634-2,7))+2)),"00") -> 2017-02 | E634: 1.58 | F634: 1.48
A635: =IF(VALUE(B635)=1,A634+1,A634) -> 2017 | B635: 08 | C635: 42786 | D635: =A635&"-"&TEXT((MONTH(C635-(MOD(C635-2,7))+2)),"00") -> 2017-02 | E635: 1.59 | F635: 1.5
A636: =IF(VALUE(B636)=1,A635+1,A635) -> 2017 | B636: 09 | C636: 42793 | D636: =A636&"-"&TEXT((MONTH(C636-(MOD(C636-2,7))+2)),"00") -> 2017-03 | E636: 1.61 | F636: 1.5
A637: =IF(VALUE(B637)=1,A636+1,A636) -> 2017 | B637: 10 | C637: 42800 | D637: =A637&"-"&TEXT((MONTH(C637-(MOD(C637-2,7))+2)),"00") -> 2017-03 | E637: 1.62 | F637: 1.51
A638: =IF(VALUE(B638)=1,A637+1,A637) -> 2017 | B638: 11 | C638: 42807 | D638: =A638&"-"&TEXT((MONTH(C638-(MOD(C638-2,7))+2)),"00") -> 2017-03 | E638: 1.61 | F638: 1.5
A639: =IF(VALUE(B639)=1,A638+1,A638) -> 2017 | B639: 12 | C639: 42814 | D639: =A639&"-"&TEXT((MONTH(C639-(MOD(C639-2,7))+2)),"00") -> 2017-03 | E639: 1.64 | F639: 1.52
... A676: =IF(VALUE(B676)=1,A675+1,A675) -> 2017 | B676: 49 | C676: 43073 | D676: =A676&"-"&TEXT((MONTH(C676-(MOD(C676-2,7))+2)),"00") -> 2017-12 | E676: 1.42 | F676: 1.3
A677: =IF(VALUE(B677)=1,A676+1,A676) -> 2017 | B677: 50 | C677: 43080 | D677: =A677&"-"&TEXT((MONTH(C677-(MOD(C677-2,7))+2)),"00") -> 2017-12 | F677: 1.29
A678: =IF(VALUE(B678)=1,A677+1,A677) -> 2017 | B678: 51 | C678: 43087 | D678: =A678&"-"&TEXT((MONTH(C678-(MOD(C678-2,7))+2)),"00") -> 2017-12 | E678: 1.45 | F678: 1.29
A679: =IF(VALUE(B679)=1,A678+1,A678) -> 2017 | B679: 52 | C679: 43094 | D679: =A679&"-"&TEXT((MONTH(C679-(MOD(C679-2,7))+2)),"00") -> 2017-12 | E679: 1.41 | F679: 1.27
A680: =IF(VALUE(B680)=1,A679+1,A679) -> 2018 | B680: 01 | C680: 43101 | D680: =A680&"-"&TEXT((MONTH(C680-(MOD(C680-2,7))+2)),"00") -> 2018-01 | E680: 1.4 | F680: 1.26
A681: =IF(VALUE(B681)=1,A680+1,A680) -> 2018 | B681: 02 | C681: 43108 | D681: =A681&"-"&TEXT((MONTH(C681-(MOD(C681-2,7))+2)),"00") -> 2018-01 | E681: 1.42 | F681: 1.25
A682: =IF(VALUE(B682)=1,A681+1,A681) -> 2018 | B682: 03 | C682: 43115 | D682: =A682&"-"&TEXT((MONTH(C682-(MOD(C682-2,7))+2)),"00") -> 2018-01 | E682: 1.4 | F682: 1.24
A683: =IF(VALUE(B683)=1,A682+1,A682) -> 2018 | B683: 04 | C683: 43122 | D683: =A683&"-"&TEXT((MONTH(C683-(MOD(C683-2,7))+2)),"00") -> 2018-01 | E683: 1.35 | F683: 1.22
A684: =IF(VALUE(B684)=1,A683+1,A683) -> 2018 | B684: 05 | C684: 43129 | D684: =A684&"-"&TEXT((MONTH(C684-(MOD(C684-2,7))+2)),"00") -> 2018-01 | E684: 1.39 | F684: 1.22
A685: =IF(VALUE(B685)=1,A684+1,A684) -> 2018 | B685: 06 | C685: 43136 | D685: =A685&"-"&TEXT((MONTH(C685-(MOD(C685-2,7))+2)),"00") -> 2018-02 | E685: 1.4 | F685: 1.24
A686: =IF(VALUE(B686)=1,A685+1,A685) -> 2018 | B686: 07 | C686: 43143 | D686: =A686&"-"&TEXT((MONTH(C686-(MOD(C686-2,7))+2)),"00") -> 2018-02 | E686: 1.43 | F686: 1.25
A687: =IF(VALUE(B687)=1,A686+1,A686) -> 2018 | B687: 08 | C687: 43150 | D687: =A687&"-"&TEXT((MONTH(C687-(MOD(C687-2,7))+2)),"00") -> 2018-02 | E687: 1.42 | F687: 1.28
A688: =IF(VALUE(B688)=1,A687+1,A687) -> 2018 | B688: 09 | C688: 43157 | D688: =A688&"-"&TEXT((MONTH(C688-(MOD(C688-2,7))+2)),"00") -> 2018-02 | E688: 1.44 | F688: 1.31
A689: =IF(VALUE(B689)=1,A688+1,A688) -> 2018 | B689: 10 | C689: 43164 | D689: =A689&"-"&TEXT((MONTH(C689-(MOD(C689-2,7))+2)),"00") -> 2018-03 | E689: 1.47 | F689: 1.34
... A730: =IF(VALUE(B730)=1,A729+1,A729) -> 2018 | B730: 51 | C730: 43451 | D730: =A730&"-"&TEXT((MONTH(C730-(MOD(C730-2,7))+2)),"00") -> 2018-12 | E730: 1.43 | F730: 1.29
A731: =IF(VALUE(B731)=1,A730+1,A730) -> 2018 | B731: 52 | C731: 43458 | D731: =A731&"-"&TEXT((MONTH(C731-(MOD(C731-2,7))+2)),"00") -> 2018-12 | F731: 1.3 | G731: =AVERAGE(E680:E731) -> 1.4403922
A732: =IF(VALUE(B732)=1,A731+1,A731) -> 2019 | B732: 01 | C732: 43465 | D732: =A732&"-"&TEXT((MONTH(C732-(MOD(C732-2,7))+2)),"00") -> 2019-01 | E732: 1.42 | F732: 1.29
A733: =IF(VALUE(B733)=1,A732+1,A732) -> 2019 | B733: 02 | C733: 43472 | D733: =A733&"-"&TEXT((MONTH(C733-(MOD(C733-2,7))+2)),"00") -> 2019-01 | E733: 1.41 | F733: 1.29
A734: =IF(VALUE(B734)=1,A733+1,A733) -> 2019 | B734: 03 | C734: 43479 | D734: =A734&"-"&TEXT((MONTH(C734-(MOD(C734-2,7))+2)),"00") -> 2019-01 | E734: 1.41 | F734: 1.29
A735: =IF(VALUE(B735)=1,A734+1,A734) -> 2019 | B735: 04 | C735: 43486 | D735: =A735&"-"&TEXT((MONTH(C735-(MOD(C735-2,7))+2)),"00") -> 2019-01 | E735: 1.41 | F735: 1.29
A736: =IF(VALUE(B736)=1,A735+1,A735) -> 2019 | B736: 05 | C736: 43493 | D736: =A736&"-"&TEXT((MONTH(C736-(MOD(C736-2,7))+2)),"00") -> 2019-01 | E736: 1.42 | F736: 1.29
A737: =IF(VALUE(B737)=1,A736+1,A736) -> 2019 | B737: 06 | C737: 43500 | D737: =A737&"-"&TEXT((MONTH(C737-(MOD(C737-2,7))+2)),"00") -> 2019-02 | E737: 1.41 | F737: 1.29
A738: =IF(VALUE(B738)=1,A737+1,A737) -> 2019 | B738: 07 | C738: 43507 | D738: =A738&"-"&TEXT((MONTH(C738-(MOD(C738-2,7))+2)),"00") -> 2019-02 | E738: 1.43 | F738: 1.29
A739: =IF(VALUE(B739)=1,A738+1,A738) -> 2019 | B739: 08 | C739: 43514 | D739: =A739&"-"&TEXT((MONTH(C739-(MOD(C739-2,7))+2)),"00") -> 2019-02 | E739: 1.42 | F739: 1.3
A740: =IF(VALUE(B740)=1,A739+1,A739) -> 2019 | B740: 09 | C740: 43521 | D740: =A740&"-"&TEXT((MONTH(C740-(MOD(C740-2,7))+2)),"00") -> 2019-02 | E740: 1.42 | F740: 1.3
A741: =IF(VALUE(B741)=1,A740+1,A740) -> 2019 | B741: 10 | C741: 43528 | D741: =A741&"-"&TEXT((MONTH(C741-(MOD(C741-2,7))+2)),"00") -> 2019-03 | E741: 1.42 | F741: 1.3
A742: =IF(VALUE(B742)=1,A741+1,A741) -> 2019 | B742: 11 | C742: 43535 | D742: =A742&"-"&TEXT((MONTH(C742-(MOD(C742-2,7))+2)),"00") -> 2019-03 | E742: 1.43 | F742: 1.3
A743: =IF(VALUE(B743)=1,A742+1,A742) -> 2019 | B743: 12 | C743: 43542 | D743: =A743&"-"&TEXT((MONTH(C743-(MOD(C743-2,7))+2)),"00") -> 2019-03 | E743: 1.47 | F743: 1.34
... A836: =IF(VALUE(B836)=1,A835+1,A835) -> 2020 | B836: 53 | C836: 44193 | D836: =A836&"-"&TEXT((MONTH(C836-(MOD(C836-2,7))+2)),"00") -> 2020-12 | E836: 1.56 | F836: 1.33
A837: 2021 | B837: 01 | C837: 44200 | D837: =A837&"-"&TEXT((MONTH(C837-(MOD(C837-2,7))+2)),"00") -> 2021-01 | E837: 1.54 | F837: 1.33
A838: 2021 | B838: 02 | C838: 44207 | D838: =A838&"-"&TEXT((MONTH(C838-(MOD(C838-2,7))+2)),"00") -> 2021-01 | E838: 1.52 | F838: 1.33
A839: 2021 | B839: 03 | C839: 44214 | D839: =A839&"-"&TEXT((MONTH(C839-(MOD(C839-2,7))+2)),"00") -> 2021-01 | E839: 1.52 | F839: 1.33
A840: 2021 | B840: 04 | C840: 44221 | D840: =A840&"-"&TEXT((MONTH(C840-(MOD(C840-2,7))+2)),"00") -> 2021-01 | E840: 1.57 | F840: 1.33
A841: 2021 | B841: 05 | C841: 44228 | D841: =A841&"-"&TEXT((MONTH(C841-(MOD(C841-2,7))+2)),"00") -> 2021-02 | E841: 1.5 | F841: 1.33
A842: 2021 | B842: 06 | C842: 44235 | D842: =A842&"-"&TEXT((MONTH(C842-(MOD(C842-2,7))+2)),"00") -> 2021-02 | E842: 1.49 | F842: 1.33
A843: 2021 | B843: 07 | C843: 44242 | D843: =A843&"-"&TEXT((MONTH(C843-(MOD(C843-2,7))+2)),"00") -> 2021-02 | E843: 1.51 | F843: 1.33
A844: 2021 | B844: 08 | C844: 44249 | D844: =A844&"-"&TEXT((MONTH(C844-(MOD(C844-2,7))+2)),"00") -> 2021-02 | E844: 1.54 | F844: 1.35
A845: 2021 | B845: 09 | C845: 44256 | D845: =A845&"-"&TEXT((MONTH(C845-(MOD(C845-2,7))+2)),"00") -> 2021-03 | E845: 1.54 | F845: 1.36
A846: 2021 | B846: 10 | C846: 44263 | D846: =A846&"-"&TEXT((MONTH(C846-(MOD(C846-2,7))+2)),"00") -> 2021-03 | E846: 1.58 | F846: 1.4
A847: 2021 | B847: 11 | C847: 44270 | D847: =A847&"-"&TEXT((MONTH(C847-(MOD(C847-2,7))+2)),"00") -> 2021-03 | E847: 1.6 | F847: 1.44
A848: 2021 | B848: 12 | C848: 44277 | D848: =A848&"-"&TEXT((MONTH(C848-(MOD(C848-2,7))+2)),"00") -> 2021-03 | E848: 1.59 | F848: 1.46
... A999: 2024 | B999: 07 | C999: 45334 | D999: =A999&"-"&TEXT((MONTH(C999-(MOD(C999-2,7))+2)),"00") -> 2024-02 | E999: 2.08 | F999: 1.95
A1000: 2024 | B1000: 08 | C1000: 45341 | D1000: =A1000&"-"&TEXT((MONTH(C1000-(MOD(C1000-2,7))+2)),"00") -> 2024-02
A1001: 2024 | B1001: 09 | C1001: 45348 | D1001: =A1001&"-"&TEXT((MONTH(C1001-(MOD(C1001-2,7))+2)),"00") -> 2024-02 | E1001: 2.14 | F1001: 2.05
A1002: 2024 | B1002: 10 | C1002: 45355 | D1002: =A1002&"-"&TEXT((MONTH(C1002-(MOD(C1002-2,7))+2)),"00") -> 2024-03 | E1002: 2.18 | F1002: 2.09
A1003: 2024 | B1003: 11 | C1003: 45362 | D1003: =A1003&"-"&TEXT((MONTH(C1003-(MOD(C1003-2,7))+2)),"00") -> 2024-03 | E1003: 2.26 | F1003: 2.13
A1004: 2024 | B1004: 12 | C1004: 45369 | D1004: =A1004&"-"&TEXT((MONTH(C1004-(MOD(C1004-2,7))+2)),"00") -> 2024-03 | E1004: 2.24 | F1004: 2.16
A1005: 2024 | B1005: 13 | C1005: 45376 | D1005: =A1005&"-"&TEXT((MONTH(C1005-(MOD(C1005-2,7))+2)),"00") -> 2024-03 | E1005: 2.28 | F1005: 2.18
A1006: 2024 | B1006: 14 | C1006: 45383 | D1006: =A1006&"-"&TEXT((MONTH(C1006-(MOD(C1006-2,7))+2)),"00") -> 2024-04 | E1006: 2.3 | F1006: 2.19
A1007: 2024 | B1007: 15 | C1007: 45390 | D1007: =A1007&"-"&TEXT((MONTH(C1007-(MOD(C1007-2,7))+2)),"00") -> 2024-04 | E1007: 2.29 | F1007: 2.18
A1008: 2024 | B1008: 16 | C1008: 45397 | D1008: =A1008&"-"&TEXT((MONTH(C1008-(MOD(C1008-2,7))+2)),"00") -> 2024-04 | E1008: 2.29 | F1008: 2.18
A1009: 2024 | B1009: 17 | C1009: 45404 | D1009: =A1009&"-"&TEXT((MONTH(C1009-(MOD(C1009-2,7))+2)),"00") -> 2024-04 | E1009: 2.28 | F1009: 2.18
A1010: 2024 | B1010: 18 | C1010: 45411 | D1010: =A1010&"-"&TEXT((MONTH(C1010-(MOD(C1010-2,7))+2)),"00") -> 2024-05 | E1010: 2.28 | F1010: 2.18
A1011: 2024 | B1011: 19 | C1011: 45418 | D1011: 2024-05 | E1011: 2.27 | F1011: 2.17
A1012: 2024 | B1012: 20 | C1012: 45425 | D1012: =A1012&"-"&TEXT((MONTH(C1012-(MOD(C1012-2,7))+2)),"00") -> 2024-05 | E1012: 2.26 | F1012: 2.16
A1013: 2024 | B1013: 21 | C1013: 45432 | D1013: =A1013&"-"&TEXT((MONTH(C1013-(MOD(C1013-2,7))+2)),"00") -> 2024-05 | E1013: 2.26 | F1013: 2.15
A1014: 2024 | B1014: 22 | C1014: 45439 | D1014: =A1014&"-"&TEXT((MONTH(C1014-(MOD(C1014-2,7))+2)),"00") -> 2024-05 | E1014: 2.26 | F1014: 2.15
A1015: 2024 | B1015: 23 | C1015: 45446 | D1015: =A1015&"-"&TEXT((MONTH(C1015-(MOD(C1015-2,7))+2)),"00") -> 2024-06 | E1015: 2.26 | F1015: 2.15
A1016: 2024 | B1016: 24 | C1016: 45453 | D1016: =A1016&"-"&TEXT((MONTH(C1016-(MOD(C1016-2,7))+2)),"00") -> 2024-06 | E1016: 2.26 | F1016: 2.15
A1017: 2024 | B1017: 25 | C1017: 45460 | D1017: =A1017&"-"&TEXT((MONTH(C1017-(MOD(C1017-2,7))+2)),"00") -> 2024-06 | E1017: 2.27 | F1017: 2.16
A1018: 2024 | B1018: 26 | C1018: 45467 | D1018: =A1018&"-"&TEXT((MONTH(C1018-(MOD(C1018-2,7))+2)),"00") -> 2024-06 | E1018: 2.29 | F1018: 2.19
A1019: 2024 | B1019: 27 | C1019: 45474 | D1019: =A1019&"-"&TEXT((MONTH(C1019-(MOD(C1019-2,7))+2)),"00") -> 2024-07 | E1019: 2.32 | F1019: 2.2
A1020: 2024 | B1020: 28 | C1020: 45481 | D1020: =A1020&"-"&TEXT((MONTH(C1020-(MOD(C1020-2,7))+2)),"00") -> 2024-07 | E1020: 2.36 | F1020: 2.23 | G1020: =(E1027-E1023)/E1023 -> -0.092436975 | H1020: =(F1027-F1023)/F1023 -> -0.080357143
A1021: 2024 | B1021: 29 | C1021: 45488 | D1021: =A1021&"-"&TEXT((MONTH(C1021-(MOD(C1021-2,7))+2)),"00") -> 2024-07 | E1021: 2.36 | F1021: 2.24
A1022: 2024 | B1022: 30 | C1022: 45495 | D1022: =A1022&"-"&TEXT((MONTH(C1022-(MOD(C1022-2,7))+2)),"00") -> 2024-07 | E1022: 2.38 | F1022: 2.24
A1023: 2024 | B1023: 31 | C1023: 45502 | D1023: =A1023&"-"&TEXT((MONTH(C1023-(MOD(C1023-2,7))+2)),"00") -> 2024-07 | E1023: 2.38 | F1023: 2.24
A1024: 2024 | B1024: 32 | C1024: 45509 | D1024: =A1024&"-"&TEXT((MONTH(C1024-(MOD(C1024-2,7))+2)),"00") -> 2024-08 | E1024: 2.33 | F1024: 2.21
A1025: 2024 | B1025: 33 | C1025: 45516 | D1025: =A1025&"-"&TEXT((MONTH(C1025-(MOD(C1025-2,7))+2)),"00") -> 2024-08 | E1025: 2.28 | F1025: 2.16
A1026: 2024 | B1026: 34 | C1026: 45523 | D1026: =A1026&"-"&TEXT((MONTH(C1026-(MOD(C1026-2,7))+2)),"00") -> 2024-08 | E1026: 2.23 | F1026: 2.11
A1027: 2024 | B1027: 35 | C1027: 45530 | D1027: =A1027&"-"&TEXT((MONTH(C1027-(MOD(C1027-2,7))+2)),"00") -> 2024-08 | E1027: 2.16 | F1027: 2.06
A1028: 2024 | B1028: 36 | C1028: 45537 | D1028: =A1028&"-"&TEXT((MONTH(C1028-(MOD(C1028-2,7))+2)),"00") -> 2024-09 | E1028: 2.15 | F1028: 2.04
A1029: 2024 | B1029: 37 | C1029: 45544 | D1029: =A1029&"-"&TEXT((MONTH(C1029-(MOD(C1029-2,7))+2)),"00") -> 2024-09 | E1029: 2.13 | F1029: 2.03
A1030: 2024 | B1030: 38 | C1030: 45551 | D1030: =A1030&"-"&TEXT((MONTH(C1030-(MOD(C1030-2,7))+2)),"00") -> 2024-09 | E1030: 2.12 | F1030: 2.02
...

Sheet Stats annuelles
A2: Prix moyen mensuel du porc charcutier | F2: Prix moyen annuel du porc charcutier
A4: Année-Mois | B4: Cours du Porc Charcutier Cotation Lyon (Sud-est) | C4: Cours du Porc Charcutier Nationale | F4: Année | G4: Cours du Porc Charcutier Cotation Lyon (Sud-est) | H4: Cours du Porc Charcutier Nationale
A5: 2005-01 | B5: =IF(ISERROR(AVERAGEIF('Données depuis 2005'!D:D,A5,'Données depuis 2005'!E:E)),"",AVERAGEIF('Données depuis 2005'!D:D,A5,'Données depuis 2005'!E:E)) -> 1.3525 | C5: =IF(ISERROR(AVERAGEIF('Données depuis 2005'!D:D,A5,'Données depuis 2005'!F:F)),"",AVERAGEIF('Données depuis 2005'!D:D,A5,'Données depuis 2005'!F:F)) | F5: 2005 | G5: =IF(ISERROR(AVERAGEIF('Données depuis 2005'!A:A,F5,'Données depuis 2005'!E:E)),"",AVERAGEIF('Données depuis 2005'!A:A,F5,'Données depuis 2005'!E:E)) -> 1.3646154 | H5: =IF(ISERROR(AVERAGEIF('Données depuis 2005'!A:A,F5,'Données depuis 2005'!F:F)),"",AVERAGEIF('Données depuis 2005'!A:A,F5,'Données depuis 2005'!F:F))
A6: 2005-02 | B6: =IF(ISERROR(AVERAGEIF('Données depuis 2005'!D:D,A6,'Données depuis 2005'!E:E)),"",AVERAGEIF('Données depuis 2005'!D:D,A6,'Données depuis 2005'!E:E)) -> 1.405 | C6: =IF(ISERROR(AVERAGEIF('Données depuis 2005'!D:D,A6,'Données depuis 2005'!F:F)),"",AVERAGEIF('Données depuis 2005'!D:D,A6,'Données depuis 2005'!F:F)) | F6: 2006 | G6: =IF(ISERROR(AVERAGEIF('Données depuis 2005'!A:A,F6,'Données depuis 2005'!E:E)),"",AVERAGEIF('Données depuis 2005'!A:A,F6,'Données depuis 2005'!E:E)) -> 1.4259615 | H6: =IF(ISERROR(AVERAGEIF('Données depuis 2005'!A:A,F6,'Données depuis 2005'!F:F)),"",AVERAGEIF('Données depuis 2005'!A:A,F6,'Données depuis 2005'!F:F))
A7: 2005-03 | B7: =IF(ISERROR(AVERAGEIF('Données depuis 2005'!D:D,A7,'Données depuis 2005'!E:E)),"",AVERAGEIF('Données depuis 2005'!D:D,A7,'Données depuis 2005'!E:E)) -> 1.352 | C7: =IF(ISERROR(AVERAGEIF('Données depuis 2005'!D:D,A7,'Données depuis 2005'!F:F)),"",AVERAGEIF('Données depuis 2005'!D:D,A7,'Données depuis 2005'!F:F)) | F7: 2007 | G7: =IF(ISERROR(AVERAGEIF('Données depuis 2005'!A:A,F7,'Données depuis 2005'!E:E)),"",AVERAGEIF('Données depuis 2005'!A:A,F7,'Données depuis 2005'!E:E)) -> 1.3073077 | H7: =IF(ISERROR(AVERAGEIF('Données depuis 2005'!A:A,F7,'Données depuis 2005'!F:F)),"",AVERAGEIF('Données depuis 2005'!A:A,F7,'Données depuis 2005'!F:F))
A8: 2005-04 | B8: =IF(ISERROR(AVERAGEIF('Données depuis 2005'!D:D,A8,'Données depuis 2005'!E:E)),"",AVERAGEIF('Données depuis 2005'!D:D,A8,'Données depuis 2005'!E:E)) -> 1.2475 | C8: =IF(ISERROR(AVERAGEIF('Données depuis 2005'!D:D,A8,'Données depuis 2005'!F:F)),"",AVERAGEIF('Données depuis 2005'!D:D,A8,'Données depuis 2005'!F:F)) | F8: 2008 | G8: =IF(ISERROR(AVERAGEIF('Données depuis 2005'!A:A,F8,'Données depuis 2005'!E:E)),"",AVERAGEIF('Données depuis 2005'!A:A,F8,'Données depuis 2005'!E:E)) -> 1.4563462 | H8: =IF(ISERROR(AVERAGEIF('Données depuis 2005'!A:A,F8,'Données depuis 2005'!F:F)),"",AVERAGEIF('Données depuis 2005'!A:A,F8,'Données depuis 2005'!F:F))
A9: 2005-05 | B9: =IF(ISERROR(AVERAGEIF('Données depuis 2005'!D:D,A9,'Données depuis 2005'!E:E)),"",AVERAGEIF('Données depuis 2005'!D:D,A9,'Données depuis 2005'!E:E)) -> 1.285 | C9: =IF(ISERROR(AVERAGEIF('Données depuis 2005'!D:D,A9,'Données depuis 2005'!F:F)),"",AVERAGEIF('Données depuis 2005'!D:D,A9,'Données depuis 2005'!F:F)) | F9: 2009 | G9: =IF(ISERROR(AVERAGEIF('Données depuis 2005'!A:A,F9,'Données depuis 2005'!E:E)),"",AVERAGEIF('Données depuis 2005'!A:A,F9,'Données depuis 2005'!E:E)) -> 1.355283 | H9: =IF(ISERROR(AVERAGEIF('Données depuis 2005'!A:A,F9,'Données depuis 2005'!F:F)),"",AVERAGEIF('Données depuis 2005'!A:A,F9,'Données depuis 2005'!F:F))
A10: 2005-06 | B10: =IF(ISERROR(AVERAGEIF('Données depuis 2005'!D:D,A10,'Données depuis 2005'!E:E)),"",AVERAGEIF('Données depuis 2005'!D:D,A10,'Données depuis 2005'!E:E)) -> 1.452 | C10: =IF(ISERROR(AVERAGEIF('Données depuis 2005'!D:D,A10,'Données depuis 2005'!F:F)),"",AVERAGEIF('Données depuis 2005'!D:D,A10,'Données depuis 2005'!F:F)) | F10: 2010 | G10: =IF(ISERROR(AVERAGEIF('Données depuis 2005'!A:A,F10,'Données depuis 2005'!E:E)),"",AVERAGEIF('Données depuis 2005'!A:A,F10,'Données depuis 2005'!E:E)) -> 1.3486538 | H10: =IF(ISERROR(AVERAGEIF('Données depuis 2005'!A:A,F10,'Données depuis 2005'!F:F)),"",AVERAGEIF('Données depuis 2005'!A:A,F10,'Données depuis 2005'!F:F))
A11: 2005-07 | B11: =IF(ISERROR(AVERAGEIF('Données depuis 2005'!D:D,A11,'Données depuis 2005'!E:E)),"",AVERAGEIF('Données depuis 2005'!D:D,A11,'Données depuis 2005'!E:E)) -> 1.3925 | C11: =IF(ISERROR(AVERAGEIF('Données depuis 2005'!D:D,A11,'Données depuis 2005'!F:F)),"",AVERAGEIF('Données depuis 2005'!D:D,A11,'Données depuis 2005'!F:F)) | F11: 2011 | G11: =IF(ISERROR(AVERAGEIF('Données depuis 2005'!A:A,F11,'Données depuis 2005'!E:E)),"",AVERAGEIF('Données depuis 2005'!A:A,F11,'Données depuis 2005'!E:E)) -> 1.5132692 | H11: =IF(ISERROR(AVERAGEIF('Données depuis 2005'!A:A,F11,'Données depuis 2005'!F:F)),"",AVERAGEIF('Données depuis 2005'!A:A,F11,'Données depuis 2005'!F:F))
A12: 2005-08 | B12: =IF(ISERROR(AVERAGEIF('Données depuis 2005'!D:D,A12,'Données depuis 2005'!E:E)),"",AVERAGEIF('Données depuis 2005'!D:D,A12,'Données depuis 2005'!E:E)) -> 1.436 | C12: =IF(ISERROR(AVERAGEIF('Données depuis 2005'!D:D,A12,'Données depuis 2005'!F:F)),"",AVERAGEIF('Données depuis 2005'!D:D,A12,'Données depuis 2005'!F:F)) | F12: 2012 | G12: =IF(ISERROR(AVERAGEIF('Données depuis 2005'!A:A,F12,'Données depuis 2005'!E:E)),"",AVERAGEIF('Données depuis 2005'!A:A,F12,'Données depuis 2005'!E:E)) -> 1.6790385 | H12: =IF(ISERROR(AVERAGEIF('Données depuis 2005'!A:A,F12,'Données depuis 2005'!F:F)),"",AVERAGEIF('Données depuis 2005'!A:A,F12,'Données depuis 2005'!F:F))
A13: 2005-09 | B13: =IF(ISERROR(AVERAGEIF('Données depuis 2005'!D:D,A13,'Données depuis 2005'!E:E)),"",AVERAGEIF('Données depuis 2005'!D:D,A13,'Données depuis 2005'!E:E)) -> 1.3575 | C13: =IF(ISERROR(AVERAGEIF('Données depuis 2005'!D:D,A13,'Données depuis 2005'!F:F)),"",AVERAGEIF('Données depuis 2005'!D:D,A13,'Données depuis 2005'!F:F)) | F13: 2013 | G13: =IF(ISERROR(AVERAGEIF('Données depuis 2005'!A:A,F13,'Données depuis 2005'!E:E)),"",AVERAGEIF('Données depuis 2005'!A:A,F13,'Données depuis 2005'!E:E)) -> 1.6982692 | H13: =IF(ISERROR(AVERAGEIF('Données depuis 2005'!A:A,F13,'Données depuis 2005'!F:F)),"",AVERAGEIF('Données depuis 2005'!A:A,F13,'Données depuis 2005'!F:F))
A14: 2005-10 | B14: =IF(ISERROR(AVERAGEIF('Données depuis 2005'!D:D,A14,'Données depuis 2005'!E:E)),"",AVERAGEIF('Données depuis 2005'!D:D,A14,'Données depuis 2005'!E:E)) -> 1.345 | C14: =IF(ISERROR(AVERAGEIF('Données depuis 2005'!D:D,A14,'Données depuis 2005'!F:F)),"",AVERAGEIF('Données depuis 2005'!D:D,A14,'Données depuis 2005'!F:F)) | F14: 2014 | G14: =IF(ISERROR(AVERAGEIF('Données depuis 2005'!A:A,F14,'Données depuis 2005'!E:E)),"",AVERAGEIF('Données depuis 2005'!A:A,F14,'Données depuis 2005'!E:E)) -> 1.5644231 | H14: =IF(ISERROR(AVERAGEIF('Données depuis 2005'!A:A,F14,'Données depuis 2005'!F:F)),"",AVERAGEIF('Données depuis 2005'!A:A,F14,'Données depuis 2005'!F:F))
A15: 2005-11 | B15: =IF(ISERROR(AVERAGEIF('Données depuis 2005'!D:D,A15,'Données depuis 2005'!E:E)),"",AVERAGEIF('Données depuis 2005'!D:D,A15,'Données depuis 2005'!E:E)) -> 1.346 | C15: =IF(ISERROR(AVERAGEIF('Données depuis 2005'!D:D,A15,'Données depuis 2005'!F:F)),"",AVERAGEIF('Données depuis 2005'!D:D,A15,'Données depuis 2005'!F:F)) | F15: 2015 | G15: =IF(ISERROR(AVERAGEIF('Données depuis 2005'!A:A,F15,'Données depuis 2005'!E:E)),"",AVERAGEIF('Données depuis 2005'!A:A,F15,'Données depuis 2005'!E:E)) -> 1.4807547 | H15: =IF(ISERROR(AVERAGEIF('Données depuis 2005'!A:A,F15,'Données depuis 2005'!F:F)),"",AVERAGEIF('Données depuis 2005'!A:A,F15,'Données depuis 2005'!F:F))
A16: 2005-12 | B16: =IF(ISERROR(AVERAGEIF('Données depuis 2005'!D:D,A16,'Données depuis 2005'!E:E)),"",AVERAGEIF('Données depuis 2005'!D:D,A16,'Données depuis 2005'!E:E)) -> 1.3725 | C16: =IF(ISERROR(AVERAGEIF('Données depuis 2005'!D:D,A16,'Données depuis 2005'!F:F)),"",AVERAGEIF('Données depuis 2005'!D:D,A16,'Données depuis 2005'!F:F)) | F16: 2016 | G16: =IF(ISERROR(AVERAGEIF('Données depuis 2005'!A:A,F16,'Données depuis 2005'!E:E)),"",AVERAGEIF('Données depuis 2005'!A:A,F16,'Données depuis 2005'!E:E)) -> 1.5061538 | H16: =IF(ISERROR(AVERAGEIF('Données depuis 2005'!A:A,F16,'Données depuis 2005'!F:F)),"",AVERAGEIF('Données depuis 2005'!A:A,F16,'Données depuis 2005'!F:F))
... A25: 2006-09 | B25: =IF(ISERROR(AVERAGEIF('Données depuis 2005'!D:D,A25,'Données depuis 2005'!E:E)),"",AVERAGEIF('Données depuis 2005'!D:D,A25,'Données depuis 2005'!E:E)) -> 1.5175 | C25: =IF(ISERROR(AVERAGEIF('Données depuis 2005'!D:D,A25,'Données depuis 2005'!F:F)),"",AVERAGEIF('Données depuis 2005'!D:D,A25,'Données depuis 2005'!F:F)) | F25: 2025 | G25: =IF(ISERROR(AVERAGEIF('Données depuis 2005'!A:A,F25,'Données depuis 2005'!E:E)),"",AVERAGEIF('Données depuis 2005'!A:A,F25,'Données depuis 2005'!E:E)) -> 1.974902 | H25: =IF(ISERROR(AVERAGEIF('Données depuis 2005'!A:A,F25,'Données depuis 2005'!F:F)),"",AVERAGEIF('Données depuis 2005'!A:A,F25,'Données depuis 2005'!F:F)) -> 1.8658824
A26: 2006-10 | B26: =IF(ISERROR(AVERAGEIF('Données depuis 2005'!D:D,A26,'Données depuis 2005'!E:E)),"",AVERAGEIF('Données depuis 2005'!D:D,A26,'Données depuis 2005'!E:E)) -> 1.41 | C26: =IF(ISERROR(AVERAGEIF('Données depuis 2005'!D:D,A26,'Données depuis 2005'!F:F)),"",AVERAGEIF('Données depuis 2005'!D:D,A26,'Données depuis 2005'!F:F))
A27: 2006-11 | B27: =IF(ISERROR(AVERAGEIF('Données depuis 2005'!D:D,A27,'Données depuis 2005'!E:E)),"",AVERAGEIF('Données depuis 2005'!D:D,A27,'Données depuis 2005'!E:E)) -> 1.348 | C27: =IF(ISERROR(AVERAGEIF('Données depuis 2005'!D:D,A27,'Données depuis 2005'!F:F)),"",AVERAGEIF('Données depuis 2005'!D:D,A27,'Données depuis 2005'!F:F))
A28: 2006-12 | B28: =IF(ISERROR(AVERAGEIF('Données depuis 2005'!D:D,A28,'Données depuis 2005'!E:E)),"",AVERAGEIF('Données depuis 2005'!D:D,A28,'Données depuis 2005'!E:E)) -> 1.2225 | C28: =IF(ISERROR(AVERAGEIF('Données depuis 2005'!D:D,A28,'Données depuis 2005'!F:F)),"",AVERAGEIF('Données depuis 2005'!D:D,A28,'Données depuis 2005'!F:F))
A29: 2007-01 | B29: =IF(ISERROR(AVERAGEIF('Données depuis 2005'!D:D,A29,'Données depuis 2005'!E:E)),"",AVERAGEIF('Données depuis 2005'!D:D,A29,'Données depuis 2005'!E:E)) -> 1.188 | C29: =IF(ISERROR(AVERAGEIF('Données depuis 2005'!D:D,A29,'Données depuis 2005'!F:F)),"",AVERAGEIF('Données depuis 2005'!D:D,A29,'Données depuis 2005'!F:F))
A30: 2007-02 | B30: =IF(ISERROR(AVERAGEIF('Données depuis 2005'!D:D,A30,'Données depuis 2005'!E:E)),"",AVERAGEIF('Données depuis 2005'!D:D,A30,'Données depuis 2005'!E:E)) -> 1.2225 | C30: =IF(ISERROR(AVERAGEIF('Données depuis 2005'!D:D,A30,'Données depuis 2005'!F:F)),"",AVERAGEIF('Données depuis 2005'!D:D,A30,'Données depuis 2005'!F:F))
A31: 2007-03 | B31: =IF(ISERROR(AVERAGEIF('Données depuis 2005'!D:D,A31,'Données depuis 2005'!E:E)),"",AVERAGEIF('Données depuis 2005'!D:D,A31,'Données depuis 2005'!E:E)) -> 1.245 | C31: =IF(ISERROR(AVERAGEIF('Données depuis 2005'!D:D,A31,'Données depuis 2005'!F:F)),"",AVERAGEIF('Données depuis 2005'!D:D,A31,'Données depuis 2005'!F:F))
A32: 2007-04 | B32: =IF(ISERROR(AVERAGEIF('Données depuis 2005'!D:D,A32,'Données depuis 2005'!E:E)),"",AVERAGEIF('Données depuis 2005'!D:D,A32,'Données depuis 2005'!E:E)) -> 1.2675 | C32: =IF(ISERROR(AVERAGEIF('Données depuis 2005'!D:D,A32,'Données depuis 2005'!F:F)),"",AVERAGEIF('Données depuis 2005'!D:D,A32,'Données depuis 2005'!F:F))
A33: 2007-05 | B33: =IF(ISERROR(AVERAGEIF('Données depuis 2005'!D:D,A33,'Données depuis 2005'!E:E)),"",AVERAGEIF('Données depuis 2005'!D:D,A33,'Données depuis 2005'!E:E)) -> 1.302 | C33: =IF(ISERROR(AVERAGEIF('Données depuis 2005'!D:D,A33,'Données depuis 2005'!F:F)),"",AVERAGEIF('Données depuis 2005'!D:D,A33,'Données depuis 2005'!F:F))
A34: 2007-06 | B34: =IF(ISERROR(AVERAGEIF('Données depuis 2005'!D:D,A34,'Données depuis 2005'!E:E)),"",AVERAGEIF('Données depuis 2005'!D:D,A34,'Données depuis 2005'!E:E)) -> 1.41 | C34: =IF(ISERROR(AVERAGEIF('Données depuis 2005'!D:D,A34,'Données depuis 2005'!F:F)),"",AVERAGEIF('Données depuis 2005'!D:D,A34,'Données depuis 2005'!F:F))
A35: 2007-07 | B35: =IF(ISERROR(AVERAGEIF('Données depuis 2005'!D:D,A35,'Données depuis 2005'!E:E)),"",AVERAGEIF('Données depuis 2005'!D:D,A35,'Données depuis 2005'!E:E)) -> 1.3975 | C35: =IF(ISERROR(AVERAGEIF('Données depuis 2005'!D:D,A35,'Données depuis 2005'!F:F)),"",AVERAGEIF('Données depuis 2005'!D:D,A35,'Données depuis 2005'!F:F))
A36: 2007-08 | B36: =IF(ISERROR(AVERAGEIF('Données depuis 2005'!D:D,A36,'Données depuis 2005'!E:E)),"",AVERAGEIF('Données depuis 2005'!D:D,A36,'Données depuis 2005'!E:E)) -> 1.428 | C36: =IF(ISERROR(AVERAGEIF('Données depuis 2005'!D:D,A36,'Données depuis 2005'!F:F)),"",AVERAGEIF('Données depuis 2005'!D:D,A36,'Données depuis 2005'!F:F))
A37: 2007-09 | B37: =IF(ISERROR(AVERAGEIF('Données depuis 2005'!D:D,A37,'Données depuis 2005'!E:E)),"",AVERAGEIF('Données depuis 2005'!D:D,A37,'Données depuis 2005'!E:E)) -> 1.4075 | C37: =IF(ISERROR(AVERAGEIF('Données depuis 2005'!D:D,A37,'Données depuis 2005'!F:F)),"",AVERAGEIF('Données depuis 2005'!D:D,A37,'Données depuis 2005'!F:F))
... A256: 2025-12 | B256: =IF(ISERROR(AVERAGEIF('Données depuis 2005'!D:D,A256,'Données depuis 2005'!E:E)),"",AVERAGEIF('Données depuis 2005'!D:D,A256,'Données depuis 2005'!E:E)) -> 1.7625 | C256: =IF(ISERROR(AVERAGEIF('Données depuis 2005'!D:D,A256,'Données depuis 2005'!F:F)),"",AVERAGEIF('Données depuis 2005'!D:D,A256,'Données depuis 2005'!F:F)) -> 1.6525

Sheet Sources
A1: Zone géographique de cotation : | B1: Régions : Bourgogne-Franche-Comté, Rhône-Alpes (hors Auvergne), Provence-Alpes-Côte d'Azur, Corse. Siège de la commission : Lyon.
A2: Catégorie cotée : | B2: Cotation régionale des porcs charcutiers de Classe E, carcasse complète avec tête, exprimée en Euro/kg de carcasse.
A3: Source Données : | B3: FranceAgriMer
A4: Fichier source : | B4: COTATIONS DES PORCS CHARCUTIERS (COT-VBL-PORC_FP-Aaa-Sss) | H4: aa = année - ss = n° de semaine
A5: Site source : | B5: https://visionet.franceagrimer.fr/Pages/Statistiques.aspx?menuurl=Statistiques/productions%20animales/viandes/cotations%20en%20format%20pdf/porcs%20charcutiers
A6: Source graphique : | B6: DRAAF Bourgogne-Franche-Comté / SRISE - 4, bis rue Hoche - B.P. 87865 - 21078 DIJON Cédex - tél: 03 80 39 30 12
A11: Publication Web : | B11: Afin de maintenir une bonne portabilité de ce fichier Excel publié sur le Web, il est maintenu au format .xls.
